BEGIN:VCALENDAR
VERSION:2.0
PRODID:-//hacksw/handcal//NONSGML v1.0//EN
BEGIN:VEVENT
SUMMARY:U13F
UID:ce83e309-2932-42c7-ad7e-fea3e8cfc721
DTSTART:20250117T230000Z
DTEND:20250118T230000Z
LOCATION:Localisation   COMPLEXE SPORTIF DU LOUROUX B.
CATEGORIES:Sportif
STATUS:
URL;VALUE=URI:https://www.asveabasket.com/evenements/2025/01/18/u13f-2216657
END:VEVENT
BEGIN:VEVENT
SUMMARY:U13F
UID:c73d01ad-c990-4ac5-94c1-7f23f97df81c
DTSTART:20250124T230000Z
DTEND:20250125T230000Z
LOCATION:Localisation   COMPLEXE SPORTIF
CATEGORIES:Sportif
STATUS:
URL;VALUE=URI:https://www.asveabasket.com/evenements/2025/01/25/u13f-2216658
END:VEVENT
BEGIN:VEVENT
SUMMARY:U13F
UID:12872474-26e9-49b8-b9a2-2ae99cc14f8e
DTSTART:20250201T230000Z
DTEND:20250202T230000Z
LOCATION:Localisation   COMPLEXE SPORTIF DU LOUROUX B.
CATEGORIES:Sportif
STATUS:
URL;VALUE=URI:https://www.asveabasket.com/evenements/2025/02/02/u13f-2216659
END:VEVENT
BEGIN:VEVENT
SUMMARY:U13F
UID:c0329fee-8a3a-430d-9d65-aeeab5e85d4c
DTSTART:20250228T230000Z
DTEND:20250301T230000Z
LOCATION:Localisation   SALLE DES SPORTS L PIN EN MAUGES
CATEGORIES:Sportif
STATUS:
URL;VALUE=URI:https://www.asveabasket.com/evenements/2025/03/01/u13f-2216660
END:VEVENT
BEGIN:VEVENT
SUMMARY:U13F
UID:47a7f7f0-1478-4d13-a5e3-8ca3e9b913fb
DTSTART:20250307T230000Z
DTEND:20250308T230000Z
LOCATION:Localisation   COMPLEXE SPORTIF DU LOUROUX B.
CATEGORIES:Sportif
STATUS:
URL;VALUE=URI:https://www.asveabasket.com/evenements/2025/03/08/u13f-2216661
END:VEVENT
BEGIN:VEVENT
SUMMARY:U13F
UID:5afe7fc2-bbce-47b8-9277-81a314dedc94
DTSTART:20250321T230000Z
DTEND:20250322T230000Z
LOCATION:Localisation   SALLE LA GODUCIERE - TRELAZE
CATEGORIES:Sportif
STATUS:
URL;VALUE=URI:https://www.asveabasket.com/evenements/2025/03/22/u13f-2216662
END:VEVENT
BEGIN:VEVENT
SUMMARY:U13F
UID:ab2599e5-725d-4a41-bd7f-d7ec81c4104c
DTSTART:20250328T230000Z
DTEND:20250329T230000Z
LOCATION:Localisation   COMPLEXE SPORTIF DU LOUROUX B.
CATEGORIES:Sportif
STATUS:
URL;VALUE=URI:https://www.asveabasket.com/evenements/2025/03/29/u13f-2216663
END:VEVENT
BEGIN:VEVENT
SUMMARY:U13F
UID:c9e6633a-e476-486d-9198-6955f32b7ef7
DTSTART:20250425T220000Z
DTEND:20250426T220000Z
LOCATION:Localisation   COMPLEXE JEAN FOULIARD
CATEGORIES:Sportif
STATUS:
URL;VALUE=URI:https://www.asveabasket.com/evenements/2025/04/26/u13f-2216664
END:VEVENT
BEGIN:VEVENT
SUMMARY:U13F
UID:42cb7951-7e93-4258-96c6-e7f1e27813f5
DTSTART:20250502T220000Z
DTEND:20250503T220000Z
LOCATION:Localisation   COMPLEXE SPORTIF DU LOUROUX B.
CATEGORIES:Sportif
STATUS:
URL;VALUE=URI:https://www.asveabasket.com/evenements/2025/05/03/u13f-2216665
END:VEVENT
BEGIN:VEVENT
SUMMARY:U13F
UID:e5c765f2-eea9-4ea5-87ed-8d055568041f
DTSTART:20250516T220000Z
DTEND:20250517T220000Z
LOCATION:Localisation   HALLE DES SPORTS DE LA HAYES N 1
CATEGORIES:Sportif
STATUS:
URL;VALUE=URI:https://www.asveabasket.com/evenements/2025/05/17/u13f-2216666
END:VEVENT
END:VCALENDAR
