BEGIN:VCALENDAR
VERSION:2.0
PRODID:-//hacksw/handcal//NONSGML v1.0//EN
BEGIN:VEVENT
SUMMARY:DF4
UID:1bcd74a2-c030-44cb-afd6-6a98779617cf
DTSTART:20240921T220000Z
DTEND:20240922T220000Z
LOCATION:Localisation   COMPLEXE SPORTIF DU LOUROUX B.
CATEGORIES:Sportif
STATUS:
URL;VALUE=URI:https://www.asveabasket.com/evenements/2024/09/22/df4-2216567
END:VEVENT
BEGIN:VEVENT
SUMMARY:DF4
UID:a3de6515-f1df-4ec6-98b4-f077d69bbd7b
DTSTART:20241005T220000Z
DTEND:20241006T220000Z
LOCATION:Localisation   COMPLEXE SPORTIF DU LOUROUX B.
CATEGORIES:Sportif
STATUS:
URL;VALUE=URI:https://www.asveabasket.com/evenements/2024/10/06/df4-2216569
END:VEVENT
BEGIN:VEVENT
SUMMARY:DF4
UID:1e752b44-7cd9-4138-93c1-bdce16447569
DTSTART:20241012T220000Z
DTEND:20241013T220000Z
LOCATION:Localisation   SALLE DE BECON LES GRANITS
CATEGORIES:Sportif
STATUS:
URL;VALUE=URI:https://www.asveabasket.com/evenements/2024/10/13/df4-2216570
END:VEVENT
BEGIN:VEVENT
SUMMARY:DF4
UID:e8991e3a-69f5-432d-ac08-51589f3356d8
DTSTART:20241019T220000Z
DTEND:20241020T220000Z
LOCATION:Localisation   COMPLEXE SPORTIF DU LOUROUX B.
CATEGORIES:Sportif
STATUS:
URL;VALUE=URI:https://www.asveabasket.com/evenements/2024/10/20/df4-2216571
END:VEVENT
BEGIN:VEVENT
SUMMARY:DF4
UID:f310fb76-00e4-4f8f-9d72-59ac7e22108e
DTSTART:20241101T230000Z
DTEND:20241102T230000Z
LOCATION:Localisation   SALLE OMNISPORT
CATEGORIES:Sportif
STATUS:
URL;VALUE=URI:https://www.asveabasket.com/evenements/2024/11/02/df4-2216568
END:VEVENT
BEGIN:VEVENT
SUMMARY:DF4
UID:20a35a62-551c-4a9f-9c2f-3e11b9a1cd32
DTSTART:20241115T230000Z
DTEND:20241116T230000Z
LOCATION:Localisation   COMPLEXE SPORTIF R. LOISON
CATEGORIES:Sportif
STATUS:
URL;VALUE=URI:https://www.asveabasket.com/evenements/2024/11/16/df4-2216572
END:VEVENT
BEGIN:VEVENT
SUMMARY:DF4
UID:df7fd487-3b4a-482d-aa76-954dcfdfc7c5
DTSTART:20241123T230000Z
DTEND:20241124T230000Z
LOCATION:Localisation   COMPLEXE SPORTIF DU LOUROUX B.
CATEGORIES:Sportif
STATUS:
URL;VALUE=URI:https://www.asveabasket.com/evenements/2024/11/24/df4-2216573
END:VEVENT
BEGIN:VEVENT
SUMMARY:DF4
UID:829e302e-3a2f-4cd4-b856-baae5212bb98
DTSTART:20241130T230000Z
DTEND:20241201T230000Z
LOCATION:Localisation   COMPLEXE SPORTIF DU LOUROUX B.
CATEGORIES:Sportif
STATUS:
URL;VALUE=URI:https://www.asveabasket.com/evenements/2024/12/01/df4-2216574
END:VEVENT
BEGIN:VEVENT
SUMMARY:DF4
UID:ebdcf94a-157e-4038-82fc-c807ff928fae
DTSTART:20241206T230000Z
DTEND:20241207T230000Z
LOCATION:Localisation   SALLE ANDRE BERTIN N2
CATEGORIES:Sportif
STATUS:
URL;VALUE=URI:https://www.asveabasket.com/evenements/2024/12/07/df4-2216575
END:VEVENT
BEGIN:VEVENT
SUMMARY:DF4
UID:8dacc129-dfd8-4298-8c90-dd2249dfed21
DTSTART:20250111T230000Z
DTEND:20250112T230000Z
LOCATION:Localisation   SALLE DE ST MARTIN DU BOIS
CATEGORIES:Sportif
STATUS:
URL;VALUE=URI:https://www.asveabasket.com/evenements/2025/01/12/df4-2216576
END:VEVENT
BEGIN:VEVENT
SUMMARY:DF4
UID:b04847e1-ca0c-488c-ae85-c6061fc85a93
DTSTART:20250118T230000Z
DTEND:20250119T230000Z
LOCATION:Localisation   COMPLEXE SPORTIF DU LOUROUX B.
CATEGORIES:Sportif
STATUS:
URL;VALUE=URI:https://www.asveabasket.com/evenements/2025/01/19/df4-2216577
END:VEVENT
BEGIN:VEVENT
SUMMARY:DF4
UID:4d0222f3-afaf-4bec-95fc-80db5f78fb5f
DTSTART:20250125T230000Z
DTEND:20250126T230000Z
LOCATION:Localisation   SALLE DELAUNE
CATEGORIES:Sportif
STATUS:
URL;VALUE=URI:https://www.asveabasket.com/evenements/2025/01/26/df4-2216578
END:VEVENT
BEGIN:VEVENT
SUMMARY:DF4
UID:5b4ad720-e71a-4f38-945f-e34ceb975111
DTSTART:20250131T230000Z
DTEND:20250201T230000Z
LOCATION:Localisation   COMPLEXE SPORTIF DU LOUROUX B.
CATEGORIES:Sportif
STATUS:
URL;VALUE=URI:https://www.asveabasket.com/evenements/2025/02/01/df4-2216579
END:VEVENT
BEGIN:VEVENT
SUMMARY:DF4
UID:48132f5b-4f8d-481f-8fd3-abebdca7a01e
DTSTART:20250301T230000Z
DTEND:20250302T230000Z
LOCATION:Localisation   SALLE DE STE GEMMES D'ANDIGNE
CATEGORIES:Sportif
STATUS:
URL;VALUE=URI:https://www.asveabasket.com/evenements/2025/03/02/df4-2216580
END:VEVENT
BEGIN:VEVENT
SUMMARY:DF4
UID:91e6f04a-7193-4e53-b68b-e8759591ad33
DTSTART:20250308T230000Z
DTEND:20250309T230000Z
LOCATION:Localisation   COMPLEXE SPORTIF DU LOUROUX B.
CATEGORIES:Sportif
STATUS:
URL;VALUE=URI:https://www.asveabasket.com/evenements/2025/03/09/df4-2216581
END:VEVENT
BEGIN:VEVENT
SUMMARY:DF4
UID:aeb9524e-e26f-431a-a716-26d0c332e1f8
DTSTART:20250329T230000Z
DTEND:20250330T230000Z
LOCATION:Localisation   COSEC HELENE BOUCHER
CATEGORIES:Sportif
STATUS:
URL;VALUE=URI:https://www.asveabasket.com/evenements/2025/03/30/df4-2216583
END:VEVENT
BEGIN:VEVENT
SUMMARY:DF4
UID:b3416b82-061e-449a-88d0-240fda03a8ea
DTSTART:20250426T220000Z
DTEND:20250427T220000Z
LOCATION:Localisation   COMPLEXE SPORTIF DU LOUROUX B.
CATEGORIES:Sportif
STATUS:
URL;VALUE=URI:https://www.asveabasket.com/evenements/2025/04/27/df4-2216584
END:VEVENT
END:VCALENDAR
